BEGIN:VCALENDAR
VERSION:2.0
PRODID:-//Ezion Fair Christian Academy - ECPv6.15.10//NONSGML v1.0//EN
CALSCALE:GREGORIAN
METHOD:PUBLISH
X-WR-CALNAME:Ezion Fair Christian Academy
X-ORIGINAL-URL:https://ezionfairacademy.org
X-WR-CALDESC:Events for Ezion Fair Christian Academy
REFRESH-INTERVAL;VALUE=DURATION:PT1H
X-Robots-Tag:noindex
X-PUBLISHED-TTL:PT1H
BEGIN:VTIMEZONE
TZID:UTC
BEGIN:STANDARD
TZOFFSETFROM:+0000
TZOFFSETTO:+0000
TZNAME:UTC
DTSTART:20250101T000000
END:STANDARD
END:VTIMEZONE
BEGIN:VEVENT
DTSTART;VALUE=DATE:20260525
DTEND;VALUE=DATE:20260526
DTSTAMP:20260423T143951
CREATED:20260105T223505Z
LAST-MODIFIED:20260105T223505Z
UID:2032-1779667200-1779753599@ezionfairacademy.org
SUMMARY:Memorial Day Center Closed
DESCRIPTION:The Academy will be closed in observance of Memorial Day.
URL:https://ezionfairacademy.org/event/memorial-day-center-closed/
END:VEVENT
BEGIN:VEVENT
DTSTART;TZID=UTC:20260612T080000
DTEND;TZID=UTC:20260612T170000
DTSTAMP:20260423T143951
CREATED:20260105T223629Z
LAST-MODIFIED:20260105T223629Z
UID:2034-1781251200-1781283600@ezionfairacademy.org
SUMMARY:Parent/Teacher Conference - June 12\, 2026
DESCRIPTION:End-of-year conferences providing families an opportunity to review academic progress and prepare for the summer transition.
URL:https://ezionfairacademy.org/event/parent-teacher-conference-june-12-2026/
END:VEVENT
BEGIN:VEVENT
DTSTART;VALUE=DATE:20260615
DTEND;VALUE=DATE:20260616
DTSTAMP:20260423T143951
CREATED:20260105T223843Z
LAST-MODIFIED:20260105T223843Z
UID:2036-1781481600-1781567999@ezionfairacademy.org
SUMMARY:Summer Camp Begins – June 15\, 2026
DESCRIPTION:The Academy’s Summer Camp program officially begins\, featuring enrichment\, recreation\, and themed learning activities.
URL:https://ezionfairacademy.org/event/summer-camp-begins-june-15-2026/
END:VEVENT
BEGIN:VEVENT
DTSTART;VALUE=DATE:20260619
DTEND;VALUE=DATE:20260620
DTSTAMP:20260423T143951
CREATED:20260105T223947Z
LAST-MODIFIED:20260105T223947Z
UID:2038-1781827200-1781913599@ezionfairacademy.org
SUMMARY:Juneteenth 1/2 Day
DESCRIPTION:The Academy will observe Juneteenth with a half-day schedule in recognition of this historic holiday.
URL:https://ezionfairacademy.org/event/juneteenth-1-2-day/
END:VEVENT
END:VCALENDAR